BEGIN:VCALENDAR
PRODID:-//www.maldenmanor.kingston.sch.uk//EN
VERSION:2.0
METHOD:PUBLISH
BEGIN:VEVENT
DTSTART;TZID=Europe/London:20171102T
DTEND;TZID=Europe/London:20171102T
URL:https://www.maldenmanor.kingston.sch.uk/about-us/full-school-calendar/new-reception-open-morning/
SUMMARY:Full School Calendar
END:VEVENT
END:VCALENDAR